BEGIN:VCALENDAR
VERSION:2.0
PRODID:-//TYPO3/NONSGML Calendarize//EN
BEGIN:VEVENT
UID:calendarize-unknown-neighbours-vietnamese-life-in-chemnitz-a-pop-up-ph
 oto-exhibition
DTSTAMP:20260408T105518Z
DTSTART:20260423T140000Z
DTEND:20260423T170000Z
SUMMARY:Unknown neighbours? Vietnamese life in Chemnitz - A pop-up photo e
 xhibition
DESCRIPTION:Vietnamese represent one of the largest migrant groups in Chem
 nitz. The ongoing migration movement from Vietnam to Chemnitz has a histor
 y of more than 60 years. This diverse history is illustrated using photos 
 from private and public archives.\nThe exhibition is part of the TUCcultur
 e 2025 funded project "Unknown neighbours? Vietnamese diaspora in Chemnitz
  and the region" at the Chair of General Educational Science at TU Chemnit
 z.\n\n
X-ALT-DESC;FMTTYPE=text/html:<p>Vietnamese represent one of the largest mi
 grant groups in Chemnitz. The ongoing migration movement from Vietnam to C
 hemnitz has a history of more than 60 years. This diverse history is illus
 trated using photos from private and public archives.</p>\n<p>The exhibiti
 on is part of the <a href="https://www.tu-chemnitz.de/tu/tucculture2025/" 
 target="_blank" rel="noreferrer"><u>TUCculture 2025</u></a> funded project
  <a href="https://www.tu-chemnitz.de/phil/ipp/erzwiss/03_Forschung%20und%2
 0Projekte/Projekte.html#UBN" target="_blank" rel="noreferrer"><u>"Unknown 
 neighbours? Vietnamese diaspora in Chemnitz and the region"</u></a> at the
  Chair of General Educational Science at TU Chemnitz.</p>\n\n
LOCATION:"IdeenReich" (ground floor) in the university library of Chemnitz
  University of Technology (https://www.tu-chemnitz.de/ub/map/Universit%C3%
 A4tsbibliothek/)
END:VEVENT
END:VCALENDAR
