BEGIN:VCALENDAR
VERSION:2.0
PRODID:-//TYPO3/NONSGML Calendarize//EN
BEGIN:VEVENT
UID:calendarize-ausstellung-dialogfeld-2-passby-von-katariin-mudist-202506
 25
DTSTAMP:20250618T151724Z
DTSTART;VALUE=DATE:20250625
DTEND;VALUE=DATE:20250626
SUMMARY:Ausstellung Dialogfeld 2: Passby von Katariin Mudist 
DESCRIPTION:22. - 28.06.25jederzeit zu besichtigenEröffnung: Samstag\, 21
 .06. 16 Uhr\, Treffpunkt LokomovOrt: Zietenstraße Ecke Jakobstraße\n\nDe
 r Klub Solitaer e.V. organisiert im Rahmen der europäischen Kulturhauptst
 adt Chemnitz 2025 das Residenzprogramm Dialogfelder. Dafür werden dreimal
  internationale Künstler:innen eingeladen\, jeweils sechs Wochen in Chemn
 itz zu leben und zum Thema Gunst zu arbeiten.Seit dem 19. Mai sind Katarii
 n Mudist (Tallinn\, Estland) sowie das Künstler:innenduo Marie Donike und
  Johannes Specks (Köln) auf dem Sonnenberg zu Gast. Sie wohnen hier\, ler
 nen die Stadt kennen\, treffen Menschen aus Chemnitz und entwickeln neue k
 ünstlerische Ideen. Begleitet werden sie vom Chemnitzer Künstler und Ker
 amiker Viet Phuong Nguyen (TIEV)\, welcher eine eigene künstlerische Reak
 tion entwickelt. Nun werden die Ergebnisse des Residenzprogramms in Form k
 ünstlerischer Interventionen präsentiert.Katariin MudistPassby2025\nKata
 riin Mudist (geb. 1994) ist eine estnische Künstlerin\, die sich mit der 
 Vielschichtigkeit der Menschheit und ihren Erscheinungsformen in unserer s
 ozialen Welt beschäftigt. In ihren Arbeiten verbindet sie Humor und Ironi
 e\, um gesellschaftliche Normen\, Wertesysteme und Materialität zu unters
 uchen. Während ihrer Residenz beschäftigt sich Katariin mit den Bewohne
 r:innen des Sonnenbergs. Heimlich und bisweilen voyeuristisch beobachtet s
 ie die vorbeiziehenden Menschen und dokumentiert sie in diesen flüchtigen
  und unscheinbaren Momenten. Darauf basierend formt sie später kleine Ton
 figuren\, die einem Brettspiel entsprungen sein könnten.„Die Arbeit ref
 lektiert über Präsenz\, Repräsentation und kollektive Identität und ve
 rwandelt alltägliche Begegnungen in ein spielerisches Archiv des gemeinsa
 men Raums. Ich interessiere mich dafür\, wie wir andere sehen\, wie wir g
 esehen werden und wie diese kurzen Eindrücke die Struktur eines Ortes bil
 den.“Dabei widmet sie sich ganz bewusst dem Alltäglichen\, dem Unspekta
 kulären\, und versucht sich so der Essenz des Sonnenberges anzunähern\, 
 welche den Stadtteil ausmacht: seinen Menschen. Mit der Zeit werden diese 
 ihr bisher Fremden immer vertrauter\, und sie setzt ihnen damit ein feinfü
 hliges Denkmal – eines\, das die Grenzen zwischen Portrait und Abstrakti
 on verwischt und es ermöglicht\, dass sich Individuen vielleicht wiederer
 kennen\, aber auch das Feld für eine kollektive Erfahrung geöffnet wird.
 \nWeitere Informationen:www.instagram.com/dialogfelderwww.dialogfelder.de
X-ALT-DESC;FMTTYPE=text/html:<p><strong>22. - 28.06.25</strong><br /><stro
 ng>jederzeit zu besichtigen</strong><br /><br /><strong>Eröffnung: Samsta
 g\, 21.06. 16 Uhr</strong>\, Treffpunkt Lokomov<br /><strong>Ort: Zietenst
 raße Ecke Jakobstraße</strong></p>\n\n<p>Der Klub Solitaer e.V. organisi
 ert im Rahmen der europäischen Kulturhauptstadt Chemnitz 2025 das Residen
 zprogramm <i><strong>Dialogfelder</strong></i>. Dafür werden dreimal inte
 rnationale Künstler:innen eingeladen\, jeweils sechs Wochen in Chemnitz z
 u leben und zum Thema <strong>Gunst</strong> zu arbeiten.<br /><br />Seit 
 dem 19. Mai sind <strong>Katariin Mudist </strong>(Tallinn\, Estland) sowi
 e das Künstler:innenduo <strong>Marie Donike und Johannes Specks</strong>
  (Köln) auf dem Sonnenberg zu Gast. Sie wohnen hier\, lernen die Stadt ke
 nnen\, treffen Menschen aus Chemnitz und entwickeln neue künstlerische Id
 een. Begleitet werden sie vom Chemnitzer Künstler und Keramiker <strong>V
 iet Phuong Nguyen (TIEV)</strong>\, welcher eine eigene künstlerische Rea
 ktion entwickelt. Nun werden die Ergebnisse des Residenzprogramms in Form 
 künstlerischer Interventionen präsentiert.<br /><br /><strong>Katariin M
 udist</strong><br /><strong>Passby</strong><br /><strong>2025</strong></p>
 \n<p>Katariin Mudist (geb. 1994) ist eine estnische Künstlerin\, die sich
  mit der Vielschichtigkeit der Menschheit und ihren Erscheinungsformen in 
 unserer sozialen Welt beschäftigt. In ihren Arbeiten verbindet sie Humor 
 und Ironie\, um gesellschaftliche Normen\, Wertesysteme und Materialität 
 zu untersuchen.&nbsp\;<br /><br />Während ihrer Residenz beschäftigt sic
 h Katariin mit den Bewohner:innen des Sonnenbergs. Heimlich und bisweilen 
 voyeuristisch beobachtet sie die vorbeiziehenden Menschen und dokumentiert
  sie in diesen flüchtigen und unscheinbaren Momenten. Darauf basierend fo
 rmt sie später kleine Tonfiguren\, die einem Brettspiel entsprungen sein 
 könnten.<br />„Die Arbeit reflektiert über Präsenz\, Repräsentation 
 und kollektive Identität und verwandelt alltägliche Begegnungen in ein s
 pielerisches Archiv des gemeinsamen Raums. Ich interessiere mich dafür\, 
 wie wir andere sehen\, wie wir gesehen werden und wie diese kurzen Eindrü
 cke die Struktur eines Ortes bilden.“<br />Dabei widmet sie sich ganz be
 wusst dem Alltäglichen\, dem Unspektakulären\, und versucht sich so der 
 Essenz des Sonnenberges anzunähern\, welche den Stadtteil ausmacht: seine
 n Menschen. Mit der Zeit werden diese ihr bisher Fremden immer vertrauter\
 , und sie setzt ihnen damit ein feinfühliges Denkmal – eines\, das die 
 Grenzen zwischen Portrait und Abstraktion verwischt und es ermöglicht\, d
 ass sich Individuen vielleicht wiedererkennen\, aber auch das Feld für ei
 ne kollektive Erfahrung geöffnet wird.</p>\n<p><br />Weitere Informatione
 n:<br /><br /><a href="http://www.instagram.com/dialogfelder" target="_bla
 nk">www.instagram.com/dialogfelder</a><br /><a href="http://www.dialogfeld
 er.de" target="_blank">www.dialogfelder.de</a></p>
LOCATION:Chemnitz - Zietenstr. Ecke Jakobstr.
END:VEVENT
END:VCALENDAR
