BEGIN:VCALENDAR
VERSION:2.0
PRODID:-//TYPO3/NONSGML Calendarize//EN
BEGIN:VEVENT
UID:calendarize-unbekannte-nachbarn-vietnamesisches-leben-in-chemnitz-eine
 -pop-up-fotoausstellung
DTSTAMP:20260408T105431Z
DTSTART:20260423T140000Z
DTEND:20260423T170000Z
SUMMARY:Unbekannte Nachbarn? Vietnamesisches Leben in Chemnitz - Eine Pop-
 Up Fotoausstellung
DESCRIPTION:Vietnames:innen stellen in Chemnitz einer der größten migran
 tischen Gruppen dar. Die immer noch anhaltende Migrationsbewegung von Viet
 nam nach Chemnitz weist eine mehr als 60-jährige Geschichte auf.  Anhand
  von Fotos aus privaten und öffentlichen Archiven wird diese vielfältige
  Geschichten illustriert.\nDie Ausstellung ist Teil des von TUCculture 202
 5 geförderten Projektes "Unbekannte Nachbarn? Vietnamesische Diaspora in 
 Chemnitz und Region" an der Professur Allgemeine Erziehungswissenschaft.\n
 \n
X-ALT-DESC;FMTTYPE=text/html:<p>Vietnames:innen stellen in Chemnitz einer 
 der größten migrantischen Gruppen dar. Die immer noch anhaltende Migrati
 onsbewegung von Vietnam nach Chemnitz weist eine mehr als 60-jährige Gesc
 hichte auf. &nbsp\;Anhand von Fotos aus privaten und öffentlichen Archive
 n wird diese vielfältige Geschichten illustriert.</p>\n<p>Die Ausstellung
  ist Teil des von <a href="https://www.tu-chemnitz.de/tu/tucculture2025/" 
 target="_blank" rel="noreferrer"><u>TUCculture 2025</u></a> geförderten P
 rojektes <a href="https://www.tu-chemnitz.de/phil/ipp/erzwiss/03_Forschung
 %20und%20Projekte/Projekte.html#UBN" target="_blank" rel="noreferrer"><u>"
 Unbekannte Nachbarn? Vietnamesische Diaspora in Chemnitz und Region"</u></
 a> an der Professur Allgemeine Erziehungswissenschaft.</p>\n\n
LOCATION:"IdeenReich" (EG) in der Universitätsbibliothek der TU Chemnitz 
 (https://www.tu-chemnitz.de/ub/map/Universit%C3%A4tsbibliothek/)
END:VEVENT
END:VCALENDAR
